BEGIN:VCALENDAR
VERSION:2.0
PRODID:-//Adoption Rhode Island - ECPv6.12.0//NONSGML v1.0//EN
CALSCALE:GREGORIAN
METHOD:PUBLISH
X-ORIGINAL-URL:https://adoptionri.org
X-WR-CALDESC:Events for Adoption Rhode Island
REFRESH-INTERVAL;VALUE=DURATION:PT1H
X-Robots-Tag:noindex
X-PUBLISHED-TTL:PT1H
BEGIN:VTIMEZONE
TZID:UTC
BEGIN:STANDARD
TZOFFSETFROM:+0000
TZOFFSETTO:+0000
TZNAME:UTC
DTSTART:20260101T000000
END:STANDARD
END:VTIMEZONE
BEGIN:VEVENT
DTSTART;TZID=UTC:20260114T180000
DTEND;TZID=UTC:20260114T200000
DTSTAMP:20260420T165052
CREATED:20260114T170955Z
LAST-MODIFIED:20260114T170955Z
UID:4329-1768413600-1768420800@adoptionri.org
SUMMARY:Information Meeting
DESCRIPTION:Adults interested in learning more about adoption from foster care are invited to join us for our monthly Zoom information meeting. Learn more about children and youth in foster care\, the adoption process and how to proceed.  \nRegister: Contact Allison Forte at aforte@adoptionri.org to register and receive the Zoom link.
URL:https://adoptionri.org/event/information-meeting-29/
LOCATION:Virtual
CATEGORIES:Adoption Information Meetings
ORGANIZER;CN="Adoption Rhode Island":MAILTO:adoptionri@adoptionri.org
END:VEVENT
BEGIN:VEVENT
DTSTART;TZID=UTC:20260115T173000
DTEND;TZID=UTC:20260115T183000
DTSTAMP:20260420T165052
CREATED:20260114T192222Z
LAST-MODIFIED:20260114T192222Z
UID:4341-1768498200-1768501800@adoptionri.org
SUMMARY:Branching Out - A Support Group for Pre-Teens (11 to 14 years old)
DESCRIPTION:Pre-teens are invited to join us for a casual group with focuses including coping skills\, resiliency\, emotion regulation\, social skills and community building.  \nThe group meets in person at Adoption RI in Providence. A light meal will be served. \nIf interested and/or have any questions\, please reach out to supportinfo@adoptionri.org or 401-865-6000 x310.
URL:https://adoptionri.org/event/branching-out-a-support-group-for-pre-teens-11-to-14-years-old/
LOCATION:Adoption Rhode Island\, 290 West Exchange St\, Ste 100\, Providence\, RI\, RI\, United States
CATEGORIES:Workshops
ORGANIZER;CN="Adoption Rhode Island":MAILTO:adoptionri@adoptionri.org
END:VEVENT
BEGIN:VEVENT
DTSTART;TZID=UTC:20260120T173000
DTEND;TZID=UTC:20260120T190000
DTSTAMP:20260420T165052
CREATED:20260114T195333Z
LAST-MODIFIED:20260114T195333Z
UID:4346-1768930200-1768935600@adoptionri.org
SUMMARY:Branching Out - Strength in Families (Group for Caregivers and Children Age 7 to 11 years old)
DESCRIPTION:Families and children age 7 to 11 are invited to come and get together with other families to talk about attachment\, connection\, resiliency and any additional topics that come up.  \nOur Strength in Families group provides a space to share experiences\, exchange resources\, and support one another. \nThis workshop is held at our Adoption RI office in Providence.   \nInterested in learning more? Email supportinfo@adoptionri.org or call 401-865-6000 x310.
URL:https://adoptionri.org/event/branching-out-strength-in-families-group-for-caregivers-and-children-age-7-to-11-years-old/
LOCATION:Adoption Rhode Island\, 290 West Exchange St\, Ste 100\, Providence\, RI\, RI\, United States
CATEGORIES:Workshops
ORGANIZER;CN="Adoption Rhode Island":MAILTO:adoptionri@adoptionri.org
END:VEVENT
BEGIN:VEVENT
DTSTART;TZID=UTC:20260122T173000
DTEND;TZID=UTC:20260122T183000
DTSTAMP:20260420T165052
CREATED:20260114T193139Z
LAST-MODIFIED:20260114T193139Z
UID:4345-1769103000-1769106600@adoptionri.org
SUMMARY:Branching Out - Group for Teens (age 14 and up)
DESCRIPTION:Teens are invited to join us for a casual group with focuses including coping skills\, resiliency\, emotion regulation\, social skills and community building.  \nThe group meets in person at Adoption RI in Providence. A light meal will be served. \nIf interested and/or have any questions\, please reach out to supportinfo@adoptionri.org or 401-865-6000 x310.
URL:https://adoptionri.org/event/branching-out-group-for-teens-age-14-and-up/
LOCATION:Adoption Rhode Island\, 290 West Exchange St\, Ste 100\, Providence\, RI\, RI\, United States
CATEGORIES:Workshops
ORGANIZER;CN="Adoption Rhode Island":MAILTO:adoptionri@adoptionri.org
END:VEVENT
BEGIN:VEVENT
DTSTART;TZID=UTC:20260124T110000
DTEND;TZID=UTC:20260124T130000
DTSTAMP:20260420T165052
CREATED:20260121T171140Z
LAST-MODIFIED:20260121T173114Z
UID:4365-1769252400-1769259600@adoptionri.org
SUMMARY:Express Yourself!
DESCRIPTION:Children 5 and over are invited to join us for a fun afternoon of making collages! Be as creative as you’d like – and enjoy the company. Caregivers must be present and a light lunch will be served.We will be making collages making! \nClick the title above for more information.  \nContact supportinfo@adoptionri.org or 401-865-6000 x310 to reserve your spot or with any questions.
URL:https://adoptionri.org/event/express-yourself-4/
LOCATION:Adoption Rhode Island\, 290 West Exchange St\, Ste 100\, Providence\, RI\, RI\, United States
CATEGORIES:Workshops
ORGANIZER;CN="Adoption Rhode Island":MAILTO:adoptionri@adoptionri.org
END:VEVENT
BEGIN:VEVENT
DTSTART;TZID=UTC:20260127T173000
DTEND;TZID=UTC:20260127T190000
DTSTAMP:20260420T165052
CREATED:20260114T195613Z
LAST-MODIFIED:20260114T195613Z
UID:4347-1769535000-1769540400@adoptionri.org
SUMMARY:Branching Out - Strength in Families (Group for caregivers and children age 12 and up)
DESCRIPTION:Families and children age 12 and up are invited to come and get together with other families to talk about attachment\, connection\, resiliency and any additional topics that come up.  \nOur Strength in Families group provides a space to share experiences\, exchange resources\, and support one another. \nThis workshop is held at our Adoption RI office in Providence.   \nInterested in learning more? Email supportinfo@adoptionri.org or call 401-865-6000 x310.
URL:https://adoptionri.org/event/branching-out-strength-in-families-group-for-caregivers-and-children-age-12-and-up/
LOCATION:Adoption Rhode Island\, 290 West Exchange St\, Ste 100\, Providence\, RI\, RI\, United States
CATEGORIES:Workshops
ORGANIZER;CN="Adoption Rhode Island":MAILTO:adoptionri@adoptionri.org
END:VEVENT
BEGIN:VEVENT
DTSTART;TZID=UTC:20260129T173000
DTEND;TZID=UTC:20260129T183000
DTSTAMP:20260420T165052
CREATED:20260114T192924Z
LAST-MODIFIED:20260114T192924Z
UID:4344-1769707800-1769711400@adoptionri.org
SUMMARY:Branching Out Support Group for Pre-Teens (11 to 14 years old)
DESCRIPTION:Pre-teens are invited to join us for a casual group with focuses including coping skills\, resiliency\, emotion regulation\, social skills and community building.  \nThe group meets in person at Adoption RI in Providence. A light meal will be served. \nIf interested and/or have any questions\, please reach out to supportinfo@adoptionri.org or 401-865-6000 x310.
URL:https://adoptionri.org/event/branching-out-support-group-for-pre-teens-11-to-14-years-old/
LOCATION:Adoption Rhode Island\, 290 West Exchange St\, Ste 100\, Providence\, RI\, RI\, United States
CATEGORIES:Workshops
ORGANIZER;CN="Adoption Rhode Island":MAILTO:adoptionri@adoptionri.org
END:VEVENT
END:VCALENDAR