BEGIN:VCALENDAR
VERSION:2.0
PRODID:-//Adoption Rhode Island - ECPv6.12.0//NONSGML v1.0//EN
CALSCALE:GREGORIAN
METHOD:PUBLISH
X-ORIGINAL-URL:https://adoptionri.org
X-WR-CALDESC:Events for Adoption Rhode Island
REFRESH-INTERVAL;VALUE=DURATION:PT1H
X-Robots-Tag:noindex
X-PUBLISHED-TTL:PT1H
BEGIN:VTIMEZONE
TZID:UTC
BEGIN:STANDARD
TZOFFSETFROM:+0000
TZOFFSETTO:+0000
TZNAME:UTC
DTSTART:20250101T000000
END:STANDARD
END:VTIMEZONE
BEGIN:VEVENT
DTSTART;TZID=UTC:20251112T090000
DTEND;TZID=UTC:20251210T170000
DTSTAMP:20260422T150528
CREATED:20251112T191351Z
LAST-MODIFIED:20251112T191351Z
UID:4318-1762938000-1765386000@adoptionri.org
SUMMARY:Holiday Drive 2025
DESCRIPTION:Holiday Wish List Request FormHoliday Drive 2025 \nYou can help bring a little cheer to youth and young adults in foster care this holiday season. The young people in our holiday drive are asking for gifts that include electronics\, gaming\, gift cards\, clothing\, sports equipment\, shoes\, boots\, jackets\, perfume\, cologne\, etc. We are especially in need of gifts for our older youth and young adults\, as that is a population that often gets forgotten. \nIf you would like to make the holidays a little brighter for a young person in care\, please consider our Holiday Drive. Use the form below to indicate any age/gender preference.  \nHoliday Wish List Request Form
URL:https://adoptionri.org/event/holiday-drive-2025/
LOCATION:Adoption Rhode Island\, 290 West Exchange St\, Ste 100\, Providence\, RI\, RI\, United States
CATEGORIES:Fundraising Events
END:VEVENT
BEGIN:VEVENT
DTSTART;TZID=UTC:20251112T180000
DTEND;TZID=UTC:20251112T193000
DTSTAMP:20260422T150528
CREATED:20250527T182547Z
LAST-MODIFIED:20250527T182631Z
UID:4093-1762970400-1762975800@adoptionri.org
SUMMARY:Information Meeting
DESCRIPTION:Adults interested in learning more about adoption from foster care are invited to join us for our monthly Zoom information meeting. Learn more about children and youth in foster care\, the adoption process and how to proceed. Register: Contact Allison Forte at aforte@adoptionri.org to register and receive the Zoom link.
URL:https://adoptionri.org/event/information-meeting-32/
LOCATION:Virtual
CATEGORIES:Adoption Information Meetings
END:VEVENT
BEGIN:VEVENT
DTSTART;TZID=UTC:20251120T170000
DTEND;TZID=UTC:20251120T190000
DTSTAMP:20260422T150528
CREATED:20251112T192043Z
LAST-MODIFIED:20251112T192043Z
UID:4319-1763658000-1763665200@adoptionri.org
SUMMARY:National Adoption Month Statehouse Celebration and Awards Ceremony
DESCRIPTION:NAM Statehouse Invitation\nThe public and media are invited to join Adoption Rhode Island for our annual National Adoption Month State House Celebration and Award Ceremony on Thursday\, November 20th. \nThe evening promises to be inspirational\, moving and joyous as we honor several community members for their commitment to finding permanency for youth and young adults impacted by foster care and celebrate adoption as a positive way to build a family. Our keynote speaker this evening will be Miss RI 2025\, Sgt. Alexia Rodrigues\, who herself spent time in foster care. Guests will have an opportunity to view our Heart Gallery and other displays showcasing the amazing work the ARI team does on a daily basis. A light appetizer buffet will be available. To register visit http://ARI-Statehouse2025.eventbrite.com or call us at 401-865-6000 x300.
URL:https://adoptionri.org/event/national-adoption-month-statehouse-celebration-and-awards-ceremony/
LOCATION:Rhode Island State House\, 82 Smith Street\, Providence\, RI\, United States
CATEGORIES:Community Events
END:VEVENT
END:VCALENDAR