BEGIN:VCALENDAR
VERSION:2.0
PRODID:-//Adoption Rhode Island - ECPv6.12.0//NONSGML v1.0//EN
CALSCALE:GREGORIAN
METHOD:PUBLISH
X-WR-CALNAME:Adoption Rhode Island
X-ORIGINAL-URL:https://adoptionri.org
X-WR-CALDESC:Events for Adoption Rhode Island
REFRESH-INTERVAL;VALUE=DURATION:PT1H
X-Robots-Tag:noindex
X-PUBLISHED-TTL:PT1H
BEGIN:VTIMEZONE
TZID:UTC
BEGIN:STANDARD
TZOFFSETFROM:+0000
TZOFFSETTO:+0000
TZNAME:UTC
DTSTART:20240101T000000
END:STANDARD
END:VTIMEZONE
BEGIN:VEVENT
DTSTART;TZID=UTC:20240627T120000
DTEND;TZID=UTC:20240627T133000
DTSTAMP:20260425T115532
CREATED:20231213T193458Z
LAST-MODIFIED:20240322T133349Z
UID:3306-1719489600-1719495000@adoptionri.org
SUMMARY:Children First and Always Awards Luncheon
DESCRIPTION:Join us as we proudly honor exceptional leadership and dedication to making a transformational difference in the lives of children at the 3rd Annual Children First and Always Awards Luncheon at Alpine Country Club\, Cranston! \nFor details and ticket information click: Children First and Always Awards Luncheon
URL:https://adoptionri.org/event/children-first-and-always-awards-luncheon-2/
LOCATION:Alpine Country Club\, 251 Pippin Orchard Rd.\, Cranston
CATEGORIES:Community Events
END:VEVENT
END:VCALENDAR